BEGIN:VCALENDAR
VERSION:2.0
PRODID:-//wp-events-plugin.com//7.2.3.1//EN
TZID:Europe/Madrid
X-WR-TIMEZONE:Europe/Madrid
BEGIN:VEVENT
UID:27@ceeilleida.com
DTSTART;TZID=Europe/Madrid:20161027T180000
DTEND;TZID=Europe/Madrid:20161027T200000
DTSTAMP:20160921T123425Z
URL:https://ceeilleida.com/events/x-dijous-emprenedors-a-el-pont-de-suert-
 gestio-de-la-situacio-financera-de-lempresa/
SUMMARY:Dijous Emprenedors a El Pont de Suert. "Gestió de la situació fin
 ancera de l'empresa"
DESCRIPTION:Pere Sierra\, professional en la creació\, gestió i administr
 ació d'empreses i projectes de Management\, oferirà una sessió dels Dij
 ous Emprenedors al CEI Alta Ribagorça sota el títol "Gestió de la situa
 ció financera de l'empresa". Tindrà lloc de les 18 a les 20 hores en la 
 Sala de Plens del Consell Comarcal de l'Alta Ribagorça (Av. Victoriano Mu
 ñoz\, 48). Les inscripcions\, gratuïtes\, es poden fer a través del tel
 èfon 973690353 o pel e-mail: mcfarre@ccar.ddl.net
ATTACH;FMTTYPE=image/jpeg:https://ceeilleida.com/wp-content/uploads/pdesue
 rtdijous.jpg
CATEGORIES:Alta Ribagorça
LOCATION:Sala de Plens del Consell Comarcal de l'Alta Ribagorça\, Av. Vict
 oriano Muñoz\, 48\, El Pont de Suert\, Espanya
GEO:42.41175;0.7405200000000605
X-APPLE-STRUCTURED-LOCATION;VALUE=URI;X-ADDRESS=Av. Victoriano Muñoz\, 48\
 , El Pont de Suert\, Espanya;X-APPLE-RADIUS=100;X-TITLE=Sala de Plens del 
 Consell Comarcal de l'Alta Ribagorça:geo:42.41175,0.7405200000000605
END:VEVENT
BEGIN:VTIMEZONE
TZID:Europe/Madrid
X-LIC-LOCATION:Europe/Madrid
BEGIN:DAYLIGHT
DTSTART:20160327T030000
TZOFFSETFROM:+0100
TZOFFSETTO:+0200
TZNAME:CEST
END:DAYLIGHT
END:VTIMEZONE
END:VCALENDAR