BEGIN:VCALENDAR
VERSION:2.0
PRODID:-//wp-events-plugin.com//7.2.3.1//EN
TZID:Europe/Madrid
X-WR-TIMEZONE:Europe/Madrid
BEGIN:VEVENT
UID:48@ceeilleida.com
DTSTART;TZID=Europe/Madrid:20161128T120000
DTEND;TZID=Europe/Madrid:20161128T140000
DTSTAMP:20160930T122451Z
URL:https://ceeilleida.com/events/taller-de-design-thinking-com-innovar-en
 -el-teu-negoci/
SUMMARY:Taller de design thinking “ com innovar  en el teu negoci”
DESCRIPTION:També s'ofereix de 3 a 5 de la tarda.\n\nContacte: 973 35 57 9
 8 i cetap@alturgell.cat
CATEGORIES:Alt Urgell
LOCATION:CETAP\, Plaça de les Monges 1 3era planta\, La Seu d'Urgell\, 257
 00\, Espanya
GEO:42.3575784;1.455552500000067
X-APPLE-STRUCTURED-LOCATION;VALUE=URI;X-ADDRESS=Plaça de les Monges 1 3era
  planta\, La Seu d'Urgell\, 25700\, Espanya;X-APPLE-RADIUS=100;X-TITLE=CET
 AP:geo:42.3575784,1.455552500000067
END:VEVENT
BEGIN:VTIMEZONE
TZID:Europe/Madrid
X-LIC-LOCATION:Europe/Madrid
BEGIN:STANDARD
DTSTART:20161030T020000
TZOFFSETFROM:+0200
TZOFFSETTO:+0100
TZNAME:CET
END:STANDARD
END:VTIMEZONE
END:VCALENDAR