BEGIN:VCALENDAR
VERSION:2.0
PRODID:-//wp-events-plugin.com//7.2.3.1//EN
TZID:Europe/Madrid
X-WR-TIMEZONE:Europe/Madrid
BEGIN:VEVENT
UID:733@ceeilleida.com
DTSTART;TZID=Europe/Madrid:20230124T170000
DTEND;TZID=Europe/Madrid:20230124T190000
DTSTAMP:20230112T123625Z
URL:https://ceeilleida.com/events/sessio-informativa-al-ceeilleida-novetat
 s-de-la-llei-dstartups-aspectes-juridics-i-fiscals/
SUMMARY:Sessió informativa al CEEILleida: ‘Novetats de la Llei d’Start
 ups: aspectes jurídics i fiscals’
DESCRIPTION:El CEEILleida oferirà el dimarts 24 de gener la sessió inform
 ativa Novetats de la Llei d’Startups: aspectes jurídics i fiscals\, un
 a conferència que anirà a càrrec de l’advocat José Alberto Romero\,
  i de la fiscalista Anna López\, tots dos de l’empresa lleidatana Fra
 nco &amp\; Romero\, dedicada a oferir serveis professionals.\n\nEn aquest
 a sessió informativa es parlarà sobre:\n\n• Marc legal i conceptual de
  l’empresa emergent.\n• Tributació de les empreses emergents.\n• Tr
 ibutació en l’IRPF dels accionistes i treballadors..\n• Altres noveta
 ts..\n\nFranco &amp\; Romero neix a Lleida l’any 2003. El seu objectiu 
 és el d’ajudar\, tant empreses consolidades com empreses de recent crea
 ció\, a trobar respostes i solucions de manera ràpida\, àgil\, eficaç\
 , honesta i rigorosa.\n\nFranco &amp\; Romero son consultors i assessors e
 n totes les àrees que requereix l’àmbit empresarial (jurídic\, fiscal
 \, financer i laboral). Defensen els interessos dels seus clients\, acompa
 nyant-los i ajudant-los a assolir els seus objectius amb la proximitat\, p
 rofessionalitat i calidesa de tracte que caracteritza el seu equip humà.\
 n\nAcompanyen els emprenedors i les Startups des dels seus inicis\, presta
 nt assessorament a nivell legal\, fiscal i financer en tots els aspectes d
 e la seva activitat empresarial. Els serveis que poden prestar són:\n\n
 • Constitució de societats.\n• Pactes de socis.\n• Business pla.\n
 • Reporting.\n• Controlling.\n• Rondes d’inversió.\n• Notes con
 vertibles.\n• Operacions de M&amp\;A.\n• Registre de marca.\n• Llic
 ències.\n• Assessoria comptable\, fiscal i laboral.\n\nLa sessió infor
 mativa tindrà lloc a l’aula de formació del CEEILleida el dimarts 24 d
 e gener\, entre les 17:00 i les 19:00 hores. \n\nLes inscripcions\, gratu
 ïtes\, es poden formalitzar enviant copia del DNI o NIE al correu electr
 ònic ceei@ceeilleida.cat
LOCATION:Aula de Formació del CEEILleida\, Partida Caparrella\, 97\, Lleid
 a\, Lleida\, 25192\, Catalunya\, Espanya
X-APPLE-STRUCTURED-LOCATION;VALUE=URI;X-ADDRESS=Partida Caparrella\, 97\, L
 leida\, Lleida\, 25192\, Catalunya\, Espanya;X-APPLE-RADIUS=100;X-TITLE=Au
 la de Formació del CEEILleida:geo:0,0
END:VEVENT
BEGIN:VTIMEZONE
TZID:Europe/Madrid
X-LIC-LOCATION:Europe/Madrid
BEGIN:STANDARD
DTSTART:20221030T020000
TZOFFSETFROM:+0200
TZOFFSETTO:+0100
TZNAME:CET
END:STANDARD
END:VTIMEZONE
END:VCALENDAR