BEGIN:VCALENDAR
VERSION:2.0
PRODID:-//wp-events-plugin.com//7.2.3.1//EN
TZID:Europe/Madrid
X-WR-TIMEZONE:Europe/Madrid
BEGIN:VEVENT
UID:175@ceeilleida.com
DTSTART;TZID=Europe/Madrid:20170329T150000
DTEND;TZID=Europe/Madrid:20170329T170000
DTSTAMP:20170317T111532Z
URL:https://ceeilleida.com/events/sessio-formativa-cei-balaguer-estand-ara
 -que-fira-oportunitat-aprofita/
SUMMARY:Sessió formativa al CEI Balaguer: "Tinc un estand. I ara què? La 
 fira\, una oportunitat. Aprofita-la!"
DESCRIPTION:Inscripcions: Telèfon 973 445 844 - E-mail: cei@balaguer.cat
CATEGORIES:Balaguer
LOCATION:CEI Balaguer\, Carrer Sant Pere\, 1\, Balaguer\, Lleida / Cataluny
 a\, 25600\, Espanya
X-APPLE-STRUCTURED-LOCATION;VALUE=URI;X-ADDRESS=Carrer Sant Pere\, 1\, Bala
 guer\, Lleida / Catalunya\, 25600\, Espanya;X-APPLE-RADIUS=100;X-TITLE=CEI
  Balaguer:geo:0,0
END:VEVENT
BEGIN:VTIMEZONE
TZID:Europe/Madrid
X-LIC-LOCATION:Europe/Madrid
BEGIN:DAYLIGHT
DTSTART:20170326T030000
TZOFFSETFROM:+0100
TZOFFSETTO:+0200
TZNAME:CEST
END:DAYLIGHT
END:VTIMEZONE
END:VCALENDAR