BEGIN:VCALENDAR
VERSION:2.0
PRODID:-//wp-events-plugin.com//7.2.3.1//EN
TZID:Europe/Madrid
X-WR-TIMEZONE:Europe/Madrid
BEGIN:VEVENT
UID:163@ceeilleida.com
DTSTART;TZID=Europe/Madrid:20170403T160000
DTEND;TZID=Europe/Madrid:20170403T190000
DTSTAMP:20170327T125607Z
URL:https://ceeilleida.com/events/segon-taller-realitzacio-dun-pla-dempres
 a-2017/
SUMMARY:SEGON TALLER PER A LA REALITZACIÓ D’UN PLA D’EMPRESA 2017
DESCRIPTION:A càrrec de Salvador Pifarré. Tècnic de GLOBALleida. Expert
  en creació d’empreses.\n\nObjectiu: Ajudar a la persona emprenedora a 
 analitzar els conceptes claus per crear el seu negoci.
ATTACH;FMTTYPE=image/jpeg:https://ceeilleida.com/wp-content/uploads/taller
 2ceei2017-2.jpg
CATEGORIES:Lleida
LOCATION:Aula de Formació del Ceeilleida.\, Edifici CEEI-1 Complex de la C
 aparrella\, 97.\, Lleida\, 25191\, Espanya
GEO:41.621742;0.660704
X-APPLE-STRUCTURED-LOCATION;VALUE=URI;X-ADDRESS=Edifici CEEI-1 Complex de l
 a Caparrella\, 97.\, Lleida\, 25191\, Espanya;X-APPLE-RADIUS=100;X-TITLE=A
 ula de Formació del Ceeilleida.:geo:41.621742,0.660704
END:VEVENT
BEGIN:VTIMEZONE
TZID:Europe/Madrid
X-LIC-LOCATION:Europe/Madrid
BEGIN:DAYLIGHT
DTSTART:20170326T030000
TZOFFSETFROM:+0100
TZOFFSETTO:+0200
TZNAME:CEST
END:DAYLIGHT
END:VTIMEZONE
END:VCALENDAR