BEGIN:VCALENDAR
VERSION:2.0
PRODID:-//wp-events-plugin.com//7.2.3.1//EN
TZID:Europe/Madrid
X-WR-TIMEZONE:Europe/Madrid
BEGIN:VEVENT
UID:57@ceeilleida.com
DTSTART;TZID=Europe/Madrid:20170206T160000
DTEND;TZID=Europe/Madrid:20170208T190000
DTSTAMP:20170215T142942Z
URL:https://ceeilleida.com/events/primer-taller-denguany-sobre-com-crear-u
 n-pla-dempresa-al-ceeilleida/
SUMMARY:Primer taller d'enguany sobre com crear un pla d'empresa al Ceeille
 ida
DESCRIPTION:A càrrec de Salvador Pifarré. Tècnic de GLOBALleida. Expert 
 en creació d’empreses.\n\nObjectiu: Ajudar a la persona emprenedora a a
 nalitzar els conceptes claus per crear el seu negoci.\n\n&nbsp\;
ATTACH;FMTTYPE=image/jpeg:https://ceeilleida.com/wp-content/uploads/taller
 1ceei2017.jpg
CATEGORIES:Lleida
LOCATION:Aula de Formació del Ceeilleida.\, Edifici CEEI-1 Complex de la C
 aparrella\, 97.\, Lleida\, 25191\, Espanya
GEO:41.621742;0.660704
X-APPLE-STRUCTURED-LOCATION;VALUE=URI;X-ADDRESS=Edifici CEEI-1 Complex de l
 a Caparrella\, 97.\, Lleida\, 25191\, Espanya;X-APPLE-RADIUS=100;X-TITLE=A
 ula de Formació del Ceeilleida.:geo:41.621742,0.660704
END:VEVENT
BEGIN:VTIMEZONE
TZID:Europe/Madrid
X-LIC-LOCATION:Europe/Madrid
BEGIN:STANDARD
DTSTART:20161030T020000
TZOFFSETFROM:+0200
TZOFFSETTO:+0100
TZNAME:CET
END:STANDARD
END:VTIMEZONE
END:VCALENDAR