BEGIN:VCALENDAR
VERSION:2.0
PRODID:-//wp-events-plugin.com//7.2.3.1//EN
TZID:Europe/Madrid
X-WR-TIMEZONE:Europe/Madrid
BEGIN:VEVENT
UID:24@ceeilleida.com
DTSTART;TZID=Europe/Madrid:20161020T190000
DTEND;TZID=Europe/Madrid:20161020T210000
DTSTAMP:20160921T122509Z
URL:https://ceeilleida.com/events/persones-altament-efectives-com-gestiona
 r-millor-el-nostre-temps-no-tinc-temps-quina-gran-excusa/
SUMMARY:Persones altament efectives\, com gestionar millor el nostre temps.
  “No tinc temps\, quina gran excusa”
DESCRIPTION:A càrrec de Ruben Rosell\, coach personal\nInscripcions gratu
 ïtes. Contacte: Esther cei@cerverapaeria.cat
ATTACH;FMTTYPE=image/jpeg:https://ceeilleida.com/wp-content/uploads/cerver
 a2010.jpg
CATEGORIES:Cervera
LOCATION:CEI Cervera\, Av. Segrià\, s/n nau B\, Cervera\, Espanya
GEO:41.671465;1.2722539999999753
X-APPLE-STRUCTURED-LOCATION;VALUE=URI;X-ADDRESS=Av. Segrià\, s/n nau B\, C
 ervera\, Espanya;X-APPLE-RADIUS=100;X-TITLE=CEI Cervera:geo:41.671465,1.27
 22539999999753
END:VEVENT
BEGIN:VTIMEZONE
TZID:Europe/Madrid
X-LIC-LOCATION:Europe/Madrid
BEGIN:DAYLIGHT
DTSTART:20160327T030000
TZOFFSETFROM:+0100
TZOFFSETTO:+0200
TZNAME:CEST
END:DAYLIGHT
END:VTIMEZONE
END:VCALENDAR