BEGIN:VCALENDAR
VERSION:2.0
PRODID:-//wp-events-plugin.com//7.2.3.1//EN
TZID:Europe/Madrid
X-WR-TIMEZONE:Europe/Madrid
BEGIN:VEVENT
UID:11@ceeilleida.com
DTSTART;TZID=Europe/Madrid:20161004T160000
DTEND;TZID=Europe/Madrid:20161004T200000
DTSTAMP:20160921T110920Z
URL:https://ceeilleida.com/events/mdirector-envia-e-mails-massius-personal
 itzats-evitant-spam-podent-obtenir-un-informe-de-la-campanya/
SUMMARY:Mdirector: envia e-mails massius personalitzats evitant spam podent
  obtenir un informe de la campanya
DESCRIPTION:Professor: Àngel Fulquet. Game Designer i CEO de Gamification 
 Games i Vianvi Mobile.\nObjectiu: Construeix i gestiona la teva base de da
 des de clients\, estableix una forma periòdica de comunicació amb ells a
  través de newsletters o butlletins dissenyats a través de MailChimp i s
 igues capaç de prendre decisions a partir dels informes obtinguts en els 
 enviaments.
ATTACH;FMTTYPE=image/jpeg:https://ceeilleida.com/wp-content/uploads/ceei41
 0.jpg
CATEGORIES:Lleida
LOCATION:Aula de Formació del Ceeilleida.\, Edifici CEEI-1 Complex de la C
 aparrella\, 97.\, Lleida\, 25191\, Espanya
GEO:41.621742;0.660704
X-APPLE-STRUCTURED-LOCATION;VALUE=URI;X-ADDRESS=Edifici CEEI-1 Complex de l
 a Caparrella\, 97.\, Lleida\, 25191\, Espanya;X-APPLE-RADIUS=100;X-TITLE=A
 ula de Formació del Ceeilleida.:geo:41.621742,0.660704
END:VEVENT
BEGIN:VTIMEZONE
TZID:Europe/Madrid
X-LIC-LOCATION:Europe/Madrid
BEGIN:DAYLIGHT
DTSTART:20160327T030000
TZOFFSETFROM:+0100
TZOFFSETTO:+0200
TZNAME:CEST
END:DAYLIGHT
END:VTIMEZONE
END:VCALENDAR