BEGIN:VCALENDAR
VERSION:2.0
PRODID:-//wp-events-plugin.com//7.2.3.1//EN
TZID:Europe/Madrid
X-WR-TIMEZONE:Europe/Madrid
BEGIN:VEVENT
UID:13@ceeilleida.com
DTSTART;TZID=Europe/Madrid:20161006T143000
DTEND;TZID=Europe/Madrid:20161006T163000
DTSTAMP:20160921T111410Z
URL:https://ceeilleida.com/events/gamificacio-introdueix-els-elements-dels
 -jocs-per-a-motivar-i-potenciar-la-teva-idea-de-negoci-2/
SUMMARY:Gamificació: introdueix els elements dels jocs per a motivar i pot
 enciar la teva idea de negoci
DESCRIPTION:A càrrec d'Àngel Fulquet\, expert en e-mail màrqueting digit
 al
ATTACH;FMTTYPE=image/jpeg:https://ceeilleida.com/wp-content/uploads/cerver
 a299-610-1.jpg
CATEGORIES:Cervera
LOCATION:CEI Cervera\, Av. Segrià\, s/n nau B\, Cervera\, Espanya
GEO:41.671465;1.2722539999999753
X-APPLE-STRUCTURED-LOCATION;VALUE=URI;X-ADDRESS=Av. Segrià\, s/n nau B\, C
 ervera\, Espanya;X-APPLE-RADIUS=100;X-TITLE=CEI Cervera:geo:41.671465,1.27
 22539999999753
END:VEVENT
BEGIN:VTIMEZONE
TZID:Europe/Madrid
X-LIC-LOCATION:Europe/Madrid
BEGIN:DAYLIGHT
DTSTART:20160327T030000
TZOFFSETFROM:+0100
TZOFFSETTO:+0200
TZNAME:CEST
END:DAYLIGHT
END:VTIMEZONE
END:VCALENDAR