BEGIN:VCALENDAR
VERSION:2.0
PRODID:-//wp-events-plugin.com//7.2.3.1//EN
TZID:Europe/Madrid
X-WR-TIMEZONE:Europe/Madrid
BEGIN:VEVENT
UID:10@ceeilleida.com
DTSTART;TZID=Europe/Madrid:20160929T100000
DTEND;TZID=Europe/Madrid:20161002T190000
DTSTAMP:20160920T125410Z
URL:https://ceeilleida.com/events/fira-de-sant-miquel-i-eurofruit/
SUMMARY:Fira de Sant Miquel i Eurofruit
DESCRIPTION:
ATTACH;FMTTYPE=image/jpeg:https://ceeilleida.com/wp-content/uploads/SM2016
 _-_Cartell_web.jpg
LOCATION:Camps Elisis\, Avinguda Tarradellas\, Lleida\, 25001\, Espanya
GEO:41.6154259;0.6409929999999804
X-APPLE-STRUCTURED-LOCATION;VALUE=URI;X-ADDRESS=Avinguda Tarradellas\, Llei
 da\, 25001\, Espanya;X-APPLE-RADIUS=100;X-TITLE=Camps Elisis:geo:41.615425
 9,0.6409929999999804
END:VEVENT
BEGIN:VTIMEZONE
TZID:Europe/Madrid
X-LIC-LOCATION:Europe/Madrid
BEGIN:DAYLIGHT
DTSTART:20160327T030000
TZOFFSETFROM:+0100
TZOFFSETTO:+0200
TZNAME:CEST
END:DAYLIGHT
END:VTIMEZONE
END:VCALENDAR