BEGIN:VCALENDAR
VERSION:2.0
PRODID:-//wp-events-plugin.com//7.2.3.1//EN
TZID:Europe/Madrid
X-WR-TIMEZONE:Europe/Madrid
BEGIN:VEVENT
UID:350@ceeilleida.com
DTSTART;TZID=Europe/Madrid:20181122T163000
DTEND;TZID=Europe/Madrid:20181122T203000
DTSTAMP:20180510T114516Z
URL:https://ceeilleida.com/events/estrategies-per-triomfar-a-instagram-al-
 cei-pallars-jussa/
SUMMARY:Estratègies per triomfar a instagram\, al CEI Pallars Jussà
DESCRIPTION:\n\n\nDovi Vausk\nLlicenciada en Gràfica Publicitària. Expert
 a en Branding i Marketing Digital\n\n\n
CATEGORIES:Pallars Jussà
LOCATION:Centre de visitants. Epicentre.\, Passeig del Vall\, 13.\, Tremp\,
  Espanya
GEO:42.1659639;0.8953667000000678
X-APPLE-STRUCTURED-LOCATION;VALUE=URI;X-ADDRESS=Passeig del Vall\, 13.\, Tr
 emp\, Espanya;X-APPLE-RADIUS=100;X-TITLE=Centre de visitants. Epicentre.:g
 eo:42.1659639,0.8953667000000678
END:VEVENT
BEGIN:VTIMEZONE
TZID:Europe/Madrid
X-LIC-LOCATION:Europe/Madrid
BEGIN:STANDARD
DTSTART:20181028T020000
TZOFFSETFROM:+0200
TZOFFSETTO:+0100
TZNAME:CET
END:STANDARD
END:VTIMEZONE
END:VCALENDAR