BEGIN:VCALENDAR
VERSION:2.0
PRODID:-//wp-events-plugin.com//7.2.3.1//EN
TZID:Europe/Madrid
X-WR-TIMEZONE:Europe/Madrid
BEGIN:VEVENT
UID:116@ceeilleida.com
DTSTART;TZID=Europe/Madrid:20170404T090000
DTEND;TZID=Europe/Madrid:20170404T110000
DTSTAMP:20170316T115352Z
URL:https://ceeilleida.com/events/dimarts-feiners-al-cei-solsones-el-joc-d
 els-valors-i-el-coaching-per-treure-el-millor-de-tu/
SUMMARY:DIMARTS FEINERS al Solsonès: El joc dels valors i el coaching per 
 treure el millor de tu
DESCRIPTION:Descripció: En aquest taller mostraré la importància dels va
 lors en la nostra vida. D’una manera molt pràctica veuràs com aquests 
 t’afecten en totes les decisions que prens\, i aprendràs a identificar 
 quins són els teus valors predominants.\n\nAixò et servirà per detectar
  si hi ha incongruències entre els teus valors que t’impedeixen avança
 r i veuràs que potent és treballar amb valors per poder assolir els teus
  objectius.\n\nFormador/a: Ruben Rosell Bertran\, mentor-coach expert en l
 ideratge educatiu\n\nInscripcions: http://talent.globalleida.org/serveis/f
 ormacio?idFormacio=34&amp\;idAplicatiuRel=33
CATEGORIES:Solsonès
LOCATION:Consell Comarcal del Solsonès. Sala Gòtica\, Carrer Dominics\, 1
 2. Palau llobera\, Solsona\, Lleida / Catalunya\, 25280\, Espanya
X-APPLE-STRUCTURED-LOCATION;VALUE=URI;X-ADDRESS=Carrer Dominics\, 12. Palau
  llobera\, Solsona\, Lleida / Catalunya\, 25280\, Espanya;X-APPLE-RADIUS=1
 00;X-TITLE=Consell Comarcal del Solsonès. Sala Gòtica:geo:0,0
END:VEVENT
BEGIN:VTIMEZONE
TZID:Europe/Madrid
X-LIC-LOCATION:Europe/Madrid
BEGIN:DAYLIGHT
DTSTART:20170326T030000
TZOFFSETFROM:+0100
TZOFFSETTO:+0200
TZNAME:CEST
END:DAYLIGHT
END:VTIMEZONE
END:VCALENDAR