BEGIN:VCALENDAR
VERSION:2.0
PRODID:-//wp-events-plugin.com//7.2.3.1//EN
TZID:Europe/Madrid
X-WR-TIMEZONE:Europe/Madrid
BEGIN:VEVENT
UID:111@ceeilleida.com
DTSTART;TZID=Europe/Madrid:20170314T090000
DTEND;TZID=Europe/Madrid:20170314T110000
DTSTAMP:20170224T084519Z
URL:https://ceeilleida.com/events/dimarts-feiners-al-cei-solsona-utilitza-
 els-teu-smartphone-en-la-recerca-de-feina/
SUMMARY:DIMARTS FEINERS al CEI Solsona: Utilitza els teu smartphone en la r
 ecerca de feina
DESCRIPTION:Descripció: Tens un telèfon intel·ligent? Cerques feina? Apr
 èn a utilitzar els dispositius mòbils com a eina de suport en el teu pro
 cés de recerca de feina.\n\nInscripció a ofertes\, gestió de la teva ag
 enda\, seguiment de les fonts d’informació i altres recursos d’inter
 ès que t’ajudaran a optimitzar el teu temps en la recerca de feina.\n\n
 Formador/a: Albert Vilà\n\nEnllaç per inscripcions:\n\nhttp://talent.glo
 balleida.org/serveis/formacio?idFormacio=30&amp\;idAplicatiuRel=33
CATEGORIES:Solsonès
LOCATION:CEI Solsonès\, Pujada del Seminari s/n\, Solsona\, Espanya
GEO:41.9924356;1.5172317000000248
X-APPLE-STRUCTURED-LOCATION;VALUE=URI;X-ADDRESS=Pujada del Seminari s/n\, S
 olsona\, Espanya;X-APPLE-RADIUS=100;X-TITLE=CEI Solsonès:geo:41.9924356,1
 .5172317000000248
END:VEVENT
BEGIN:VTIMEZONE
TZID:Europe/Madrid
X-LIC-LOCATION:Europe/Madrid
BEGIN:STANDARD
DTSTART:20161030T020000
TZOFFSETFROM:+0200
TZOFFSETTO:+0100
TZNAME:CET
END:STANDARD
END:VTIMEZONE
END:VCALENDAR