BEGIN:VCALENDAR
VERSION:2.0
PRODID:-//wp-events-plugin.com//7.2.3.1//EN
TZID:Europe/Madrid
X-WR-TIMEZONE:Europe/Madrid
BEGIN:VEVENT
UID:147@ceeilleida.com
DTSTART;TZID=Europe/Madrid;VALUE=DATE:20170207
DTEND;TZID=Europe/Madrid;VALUE=DATE:20170208
DTSTAMP:20170224T101624Z
URL:https://ceeilleida.com/events/dimarts-feiners-a-sort-persones-altament
 -efectives-com-gestionar-millor-el-nostre-temps/
SUMMARY:DIMARTS FEINERS  a Sort: Persones altament efectives\, com gestiona
 r millor el nostre temps
DESCRIPTION:Descripció: Acció formativa vivencial i d’alt impacte. En a
 questa acció formativa treballarem amb eines efectives\, i testades per a
 conseguir millor gestió de la productivitat i millor gestió del temps. V
 eure’m quins són els motius per a no aconseguir tenir més temps per a 
 mi.\n\nFormador/a: Ruben Rosell Bertran\, mentor-coach expert en lideratge
  educatiu\n\nInscripcions: http://talent.globalleida.org/serveis/formacio?
 idFormacio=58&amp\;idAplicatiuRel=33
END:VEVENT
BEGIN:VTIMEZONE
TZID:Europe/Madrid
X-LIC-LOCATION:Europe/Madrid
BEGIN:STANDARD
DTSTART:20161030T020000
TZOFFSETFROM:+0200
TZOFFSETTO:+0100
TZNAME:CET
END:STANDARD
END:VTIMEZONE
END:VCALENDAR