BEGIN:VCALENDAR
VERSION:2.0
PRODID:-//wp-events-plugin.com//7.2.3.1//EN
TZID:Europe/Madrid
X-WR-TIMEZONE:Europe/Madrid
BEGIN:VEVENT
UID:123@ceeilleida.com
DTSTART;TZID=Europe/Madrid:20170509T190000
DTEND;TZID=Europe/Madrid:20170509T210000
DTSTAMP:20170224T090748Z
URL:https://ceeilleida.com/events/dimarts-feiners-a-maials-troba-la-feina-
 que-busques/
SUMMARY:DIMARTS FEINERS a Maials: Troba la feina que busques
DESCRIPTION:Descripció: Acció formativa vivencial i d’alt impacte. En a
 questa acció formativa treballarem sobre la importància de mostrar el no
 stre valor\, com ens venem i apendre a vendre’ns d’una forma més efic
 aç. I com podem fer per pujar la nostra autoestima per aconseguir tot all
 ò que volem.\n\nFormador/a: Ruben Rosell Bertran\, mentor-coach expert en
  lideratge educatiu\n\nInscripcions: http://talent.globalleida.org/serveis
 /formacio?idFormacio=40&amp\;idAplicatiuRel=33
END:VEVENT
BEGIN:VTIMEZONE
TZID:Europe/Madrid
X-LIC-LOCATION:Europe/Madrid
BEGIN:DAYLIGHT
DTSTART:20170326T030000
TZOFFSETFROM:+0100
TZOFFSETTO:+0200
TZNAME:CEST
END:DAYLIGHT
END:VTIMEZONE
END:VCALENDAR