BEGIN:VCALENDAR
VERSION:2.0
PRODID:-//wp-events-plugin.com//7.2.3.1//EN
TZID:Europe/Madrid
X-WR-TIMEZONE:Europe/Madrid
BEGIN:VEVENT
UID:115@ceeilleida.com
DTSTART;TZID=Europe/Madrid:20170328T100000
DTEND;TZID=Europe/Madrid:20170328T100000
DTSTAMP:20170224T085424Z
URL:https://ceeilleida.com/events/dimarts-feiners-a-limo-tecniques-de-comu
 nicacio-parlar-en-public/
SUMMARY:DIMARTS FEINERS a l'IMO: Tècniques de comunicació parlar en públ
 ic
DESCRIPTION:Descripció: Aprèn a controlar l’estrès a l’hora de parla
 r en públic.\n\nFormador/a: David Jorba\, formadors i motivador en intel
 ·ligència emocional i PNL\n\nInscripcions: http://talent.globalleida.org
 /serveis/formacio?idFormacio=3999&amp\;idAplicatiuRel=
LOCATION:Institut Municipal d'Ocupació Salvador Seguí. Edifici Formació 
 i Qualificació Professional. Aula P\, Plaça Rosa Sensat\, Lleida\, Lleid
 a / Catalunya\, 25005\, Espanya
X-APPLE-STRUCTURED-LOCATION;VALUE=URI;X-ADDRESS=Plaça Rosa Sensat\, Lleida
 \, Lleida / Catalunya\, 25005\, Espanya;X-APPLE-RADIUS=100;X-TITLE=Institu
 t Municipal d'Ocupació Salvador Seguí. Edifici Formació i Qualificació
  Professional. Aula P:geo:0,0
END:VEVENT
BEGIN:VTIMEZONE
TZID:Europe/Madrid
X-LIC-LOCATION:Europe/Madrid
BEGIN:DAYLIGHT
DTSTART:20170326T030000
TZOFFSETFROM:+0100
TZOFFSETTO:+0200
TZNAME:CEST
END:DAYLIGHT
END:VTIMEZONE
END:VCALENDAR