BEGIN:VCALENDAR
VERSION:2.0
PRODID:-//wp-events-plugin.com//7.2.3.1//EN
TZID:Europe/Madrid
X-WR-TIMEZONE:Europe/Madrid
BEGIN:VEVENT
UID:119@ceeilleida.com
DTSTART;TZID=Europe/Madrid:20170425T190000
DTEND;TZID=Europe/Madrid:20170425T210000
DTSTAMP:20170224T090238Z
URL:https://ceeilleida.com/events/dimarts-feiners-a-lida-de-bell-lloc-el-j
 oc-dels-valors-i-el-coaching-per-treure-el-millor-de-tu/
SUMMARY:DIMARTS FEINERS a l'ID'A de Bell-lloc: El joc dels valors i el coac
 hing per treure el millor de tu
DESCRIPTION:Descripció: En aquest taller mostraré la importància dels va
 lors en la nostra vida. D’una manera molt pràctica veuràs com aquests 
 t’afecten en totes les decisions que prens\, i aprendràs a identificar 
 quins són els teus valors predominants.\n\nAixò et servirà per detectar
  si hi ha incongruències entre els teus valors que t’impedeixen avança
 r i veuràs que potent és treballar amb valors per poder assolir els teus
  objectius.\n\nFormador/a: Ruben Rosell Bertran\, mentor-coach expert en l
 ideratge educatiu\n\nInscripcions: http://talent.globalleida.org/serveis/f
 ormacio?idFormacio=36&amp\;idAplicatiuRel=33
CATEGORIES:Bell-lloc
LOCATION:Incubadora d’Empreses d’Innovació Agrometal.lúrgica\, C/ Joa
 n Oró\, 3\, Bell-lloc d'Urgell\, Lleida / Catalunya\, 25220\, Espanya
X-APPLE-STRUCTURED-LOCATION;VALUE=URI;X-ADDRESS=C/ Joan Oró\, 3\, Bell-llo
 c d'Urgell\, Lleida / Catalunya\, 25220\, Espanya;X-APPLE-RADIUS=100;X-TIT
 LE=Incubadora d’Empreses d’Innovació Agrometal.lúrgica:geo:0,0
END:VEVENT
BEGIN:VTIMEZONE
TZID:Europe/Madrid
X-LIC-LOCATION:Europe/Madrid
BEGIN:DAYLIGHT
DTSTART:20170326T030000
TZOFFSETFROM:+0100
TZOFFSETTO:+0200
TZNAME:CEST
END:DAYLIGHT
END:VTIMEZONE
END:VCALENDAR