BEGIN:VCALENDAR
VERSION:2.0
PRODID:-//wp-events-plugin.com//7.2.3.1//EN
TZID:Europe/Madrid
X-WR-TIMEZONE:Europe/Madrid
BEGIN:VEVENT
UID:110@ceeilleida.com
DTSTART;TZID=Europe/Madrid:20170307T190000
DTEND;TZID=Europe/Madrid:20170307T210000
DTSTAMP:20170224T084500Z
URL:https://ceeilleida.com/events/dimarts-feiners-a-bell-lloc-tecniques-de
 -comunicacio-parlar-en-public/
SUMMARY:DIMARTS FEINERS a l'ID'A de Bell-lloc: Tècniques de comunicació: 
 Parlar en públic
DESCRIPTION:Descripció: Aprèn a controlar l’estrès a l’hora de parla
 r en públic.\n\nFormador/a: David Jorba\, formadors i motivador en intel
 ·ligència emocional i PNL\n\nEnllaç per inscripcions: http://talent.glo
 balleida.org/serveis/formacio?idFormacio=28&amp\;idAplicatiuRel=33
CATEGORIES:Bell-lloc
LOCATION:Incubadora d’Empreses d’Innovació Agrometal.lúrgica\, C/ Joa
 n Oró\, 3\, Bell-lloc d'Urgell\, Lleida / Catalunya\, 25220\, Espanya
X-APPLE-STRUCTURED-LOCATION;VALUE=URI;X-ADDRESS=C/ Joan Oró\, 3\, Bell-llo
 c d'Urgell\, Lleida / Catalunya\, 25220\, Espanya;X-APPLE-RADIUS=100;X-TIT
 LE=Incubadora d’Empreses d’Innovació Agrometal.lúrgica:geo:0,0
END:VEVENT
BEGIN:VTIMEZONE
TZID:Europe/Madrid
X-LIC-LOCATION:Europe/Madrid
BEGIN:STANDARD
DTSTART:20161030T020000
TZOFFSETFROM:+0200
TZOFFSETTO:+0100
TZNAME:CET
END:STANDARD
END:VTIMEZONE
END:VCALENDAR