BEGIN:VCALENDAR
VERSION:2.0
PRODID:-//wp-events-plugin.com//7.2.3.1//EN
TZID:Europe/Madrid
X-WR-TIMEZONE:Europe/Madrid
BEGIN:VEVENT
UID:31@ceeilleida.com
DTSTART;TZID=Europe/Madrid:20161108T100000
DTEND;TZID=Europe/Madrid:20161108T140000
DTSTAMP:20160922T103709Z
URL:https://ceeilleida.com/events/dimars-de-trabalh-valora-te-enta-trapar-
 eth-melhor-trabalh/
SUMMARY:DIMARS DE TRABALH\, Valora-te entà trapar eth melhor trabalh
DESCRIPTION:A cargue de Joan Josep Vergé Oms\n\n&nbsp\;
CATEGORIES:Val d'Aran
LOCATION:CEI Val d'Aran\, Plaça Naua\,1\, Casau\, 25538\, Espanya
GEO:42.7058423;0.7856735999999955
X-APPLE-STRUCTURED-LOCATION;VALUE=URI;X-ADDRESS=Plaça Naua\,1\, Casau\, 25
 538\, Espanya;X-APPLE-RADIUS=100;X-TITLE=CEI Val d'Aran:geo:42.7058423,0.7
 856735999999955
END:VEVENT
BEGIN:VTIMEZONE
TZID:Europe/Madrid
X-LIC-LOCATION:Europe/Madrid
BEGIN:STANDARD
DTSTART:20161030T020000
TZOFFSETFROM:+0200
TZOFFSETTO:+0100
TZNAME:CET
END:STANDARD
END:VTIMEZONE
END:VCALENDAR