BEGIN:VCALENDAR
VERSION:2.0
PRODID:-//wp-events-plugin.com//7.2.3.1//EN
TZID:Europe/Madrid
X-WR-TIMEZONE:Europe/Madrid
BEGIN:VEVENT
UID:695@ceeilleida.com
DTSTART;TZID=Europe/Madrid:20211025T090000
DTEND;TZID=Europe/Madrid:20211025T110000
DTSTAMP:20210924T071613Z
URL:https://ceeilleida.com/events/dijous-emprenedors-presencial-al-cetap-d
 e-la-seu-durgell-taller-de-pla-dempresa/
SUMMARY:Dijous Emprenedors presencial al CETAP de la Seu d'Urgell: Taller d
 e pla d'empresa
DESCRIPTION:A càrrec de Pere Sierra\n\nInscripcions: sbalastegui@ccau.cat
END:VEVENT
BEGIN:VTIMEZONE
TZID:Europe/Madrid
X-LIC-LOCATION:Europe/Madrid
BEGIN:DAYLIGHT
DTSTART:20210328T030000
TZOFFSETFROM:+0100
TZOFFSETTO:+0200
TZNAME:CEST
END:DAYLIGHT
END:VTIMEZONE
END:VCALENDAR