BEGIN:VCALENDAR
VERSION:2.0
PRODID:-//wp-events-plugin.com//7.2.3.1//EN
TZID:Europe/Madrid
X-WR-TIMEZONE:Europe/Madrid
BEGIN:VEVENT
UID:177@ceeilleida.com
DTSTART;TZID=Europe/Madrid:20170427T190000
DTEND;TZID=Europe/Madrid:20170427T210000
DTSTAMP:20170330T073444Z
URL:https://ceeilleida.com/events/dijous-emprenedors-cei-almenar-lexcellen
 cia-atencio-client/
SUMMARY:Dijous Emprenedors al CEI Almenar: L'excel·lència en atenció al 
 client
DESCRIPTION:A càrrec d'Ana Campos\, experta.
ATTACH;FMTTYPE=image/jpeg:https://ceeilleida.com/wp-content/uploads/almena
 rdijous.jpg
CATEGORIES:Almenar
LOCATION:CEI Almenar\, Ctra. Val d'Aran\, km. 23\,5 (sector Copalme - darre
 ra RODI)\, Almenar\, 25126\, Espanya
GEO:41.7970523;0.5680948000000399
X-APPLE-STRUCTURED-LOCATION;VALUE=URI;X-ADDRESS=Ctra. Val d'Aran\, km. 23\,
 5 (sector Copalme - darrera RODI)\, Almenar\, 25126\, Espanya;X-APPLE-RADI
 US=100;X-TITLE=CEI Almenar:geo:41.7970523,0.5680948000000399
END:VEVENT
BEGIN:VTIMEZONE
TZID:Europe/Madrid
X-LIC-LOCATION:Europe/Madrid
BEGIN:DAYLIGHT
DTSTART:20170326T030000
TZOFFSETFROM:+0100
TZOFFSETTO:+0200
TZNAME:CEST
END:DAYLIGHT
END:VTIMEZONE
END:VCALENDAR