BEGIN:VCALENDAR
VERSION:2.0
PRODID:-//wp-events-plugin.com//7.2.3.1//EN
TZID:Europe/Madrid
X-WR-TIMEZONE:Europe/Madrid
BEGIN:VEVENT
UID:91@ceeilleida.com
DTSTART;TZID=Europe/Madrid:20170309T150000
DTEND;TZID=Europe/Madrid:20170309T170000
DTSTAMP:20170221T085817Z
URL:https://ceeilleida.com/events/dijous-emprenedors-al-cei-tarrega-whatsa
 pp-com-a-canal-de-comunicacio-amb-els-seus-clients-i/
SUMMARY:Dijous Emprenedors al CEI Tàrrega WhatsApp com a canal de comunica
 ció amb els seus clients I.
DESCRIPTION:A càrrec de Gerald Manau\, Expert en comerç electrònic\, fu
 ndador de botigues online i de logística.
ATTACH;FMTTYPE=image/jpeg:https://ceeilleida.com/wp-content/uploads/dijous
 tarrega.jpg
CATEGORIES:Tàrrega
LOCATION:CEI Tàrrega. Cal Trepat\,  Av. Josep Trepat i Galceran\, 11 \, T
 àrrega\, 25300\, Espanya
X-APPLE-STRUCTURED-LOCATION;VALUE=URI;X-ADDRESS= Av. Josep Trepat i Galcera
 n\, 11 \, Tàrrega\, 25300\, Espanya;X-APPLE-RADIUS=100;X-TITLE=CEI Tàrre
 ga. Cal Trepat:geo:0,0
END:VEVENT
BEGIN:VTIMEZONE
TZID:Europe/Madrid
X-LIC-LOCATION:Europe/Madrid
BEGIN:STANDARD
DTSTART:20161030T020000
TZOFFSETFROM:+0200
TZOFFSETTO:+0100
TZNAME:CET
END:STANDARD
END:VTIMEZONE
END:VCALENDAR