BEGIN:VCALENDAR
VERSION:2.0
PRODID:-//wp-events-plugin.com//7.2.3.1//EN
TZID:Europe/Madrid
X-WR-TIMEZONE:Europe/Madrid
BEGIN:VEVENT
UID:109@ceeilleida.com
DTSTART;TZID=Europe/Madrid:20170323T150000
DTEND;TZID=Europe/Madrid:20170323T170000
DTSTAMP:20170221T091359Z
URL:https://ceeilleida.com/events/dijous-emprenedors-al-cei-tarrega-introd
 uccio-al-wordpress-per-a-noves-empreses-2/
SUMMARY:Dijous Emprenedors al CEI Tàrrega: Introducció al Wordpress per a
  noves empreses
DESCRIPTION:A càrrec de Xavier Mitjana de Mitjana Comunicació (CEITàrre
 ga)
ATTACH;FMTTYPE=image/jpeg:https://ceeilleida.com/wp-content/uploads/dijous
 tarrega.jpg
CATEGORIES:Tàrrega
LOCATION:CEI Tàrrega. Cal Trepat\,  Av. Josep Trepat i Galceran\, 11 \, T
 àrrega\, 25300\, Espanya
X-APPLE-STRUCTURED-LOCATION;VALUE=URI;X-ADDRESS= Av. Josep Trepat i Galcera
 n\, 11 \, Tàrrega\, 25300\, Espanya;X-APPLE-RADIUS=100;X-TITLE=CEI Tàrre
 ga. Cal Trepat:geo:0,0
END:VEVENT
BEGIN:VTIMEZONE
TZID:Europe/Madrid
X-LIC-LOCATION:Europe/Madrid
BEGIN:STANDARD
DTSTART:20161030T020000
TZOFFSETFROM:+0200
TZOFFSETTO:+0100
TZNAME:CET
END:STANDARD
END:VTIMEZONE
END:VCALENDAR