BEGIN:VCALENDAR
VERSION:2.0
PRODID:-//wp-events-plugin.com//7.2.3.1//EN
TZID:Europe/Madrid
X-WR-TIMEZONE:Europe/Madrid
BEGIN:VEVENT
UID:33@ceeilleida.com
DTSTART;TZID=Europe/Madrid:20161110T180000
DTEND;TZID=Europe/Madrid:20161110T200000
DTSTAMP:20160922T104415Z
URL:https://ceeilleida.com/events/dijous-emprenedors-al-cei-pallars-sobira
 -2/
SUMMARY:Dijous Emprenedors al CEI Pallars Sobirà
DESCRIPTION:Gestió de la morositat a les empreses\, per Marta Montserrat\n
 \nContacte: Xavier Català xavier@pallarssobira.cat . Telèfon: 973 620 1
 07
CATEGORIES:Pallars Sobirà
LOCATION:CEI Pallars Sobirà\, Camí de la Cabanera s/n.\, Sort\, 25560\, E
 spanya
GEO:42.4067406;1.1297862000000123
X-APPLE-STRUCTURED-LOCATION;VALUE=URI;X-ADDRESS=Camí de la Cabanera s/n.\,
  Sort\, 25560\, Espanya;X-APPLE-RADIUS=100;X-TITLE=CEI Pallars Sobirà:geo
 :42.4067406,1.1297862000000123
END:VEVENT
BEGIN:VTIMEZONE
TZID:Europe/Madrid
X-LIC-LOCATION:Europe/Madrid
BEGIN:STANDARD
DTSTART:20161030T020000
TZOFFSETFROM:+0200
TZOFFSETTO:+0100
TZNAME:CET
END:STANDARD
END:VTIMEZONE
END:VCALENDAR