BEGIN:VCALENDAR
VERSION:2.0
PRODID:-//wp-events-plugin.com//7.2.3.1//EN
TZID:Europe/Madrid
X-WR-TIMEZONE:Europe/Madrid
BEGIN:VEVENT
UID:22@ceeilleida.com
DTSTART;TZID=Europe/Madrid:20161020T180000
DTEND;TZID=Europe/Madrid:20161020T200000
DTSTAMP:20160921T121751Z
URL:https://ceeilleida.com/events/dijous-emprenedors-al-ceeilleida-errades
 -a-evitar-en-la-creacio-dun-projecte-empresarial/
SUMMARY:Dijous Emprenedors al Ceeilleida: Errades a evitar en la creació d
 'un projecte empresarial
DESCRIPTION:José Alonso\, professor de la Universitat de Lleida\, explica 
 algunes de les errades que es cometen i que calen evitar a l'hora de crear
  i posar en marxa un projecte empresarial\, dins del cicle Dijous Emprened
 ors. Tindrà lloc de 18:00 a 20:00 hores a l'aula de formació del Ceeille
 ida (edifici CEEI-1\, complex de la Caparrella\, s/n\, 25192 Lleida). Les 
 inscripcions\, gratuïtes\, es poden fer al telèfon 973221119\, o a l'e-m
 ail ceei@ceeilleida.cat
ATTACH;FMTTYPE=image/jpeg:https://ceeilleida.com/wp-content/uploads/dijous
 2ccei.jpg
CATEGORIES:Lleida
LOCATION:Aula de Formació del Ceeilleida.\, Edifici CEEI-1 Complex de la C
 aparrella\, 97.\, Lleida\, 25191\, Espanya
GEO:41.621742;0.660704
X-APPLE-STRUCTURED-LOCATION;VALUE=URI;X-ADDRESS=Edifici CEEI-1 Complex de l
 a Caparrella\, 97.\, Lleida\, 25191\, Espanya;X-APPLE-RADIUS=100;X-TITLE=A
 ula de Formació del Ceeilleida.:geo:41.621742,0.660704
END:VEVENT
BEGIN:VTIMEZONE
TZID:Europe/Madrid
X-LIC-LOCATION:Europe/Madrid
BEGIN:DAYLIGHT
DTSTART:20160327T030000
TZOFFSETFROM:+0100
TZOFFSETTO:+0200
TZNAME:CEST
END:DAYLIGHT
END:VTIMEZONE
END:VCALENDAR