BEGIN:VCALENDAR
VERSION:2.0
PRODID:-//wp-events-plugin.com//7.2.3.1//EN
TZID:Europe/Madrid
X-WR-TIMEZONE:Europe/Madrid
BEGIN:VEVENT
UID:29@ceeilleida.com
DTSTART;TZID=Europe/Madrid:20161103T180000
DTEND;TZID=Europe/Madrid:20161103T200000
DTSTAMP:20160922T102907Z
URL:https://ceeilleida.com/events/dijous-emprenedors-al-ceeilleida-com-ten
 ir-una-idea-de-negoci/
SUMMARY:Dijous Emprenedors al Ceeilleida: Com tenir una idea de negoci
DESCRIPTION:Marta Grañó\, consultora i formadora en iniciativa emprenedor
 a\, imparteix la sessió "Com tenir una idea de negoci" dins del cicle Dij
 ous Emprenedors. Tindrà lloc de 18:00 a 20:00 hores a l'aula de formació
  del Ceeilleida (edifici CEEI-1\, complex de la Caparrella\, s/n\, 25192 L
 leida). Les inscripcions\, gratuïtes\, es poden fer al telèfon 973221119
 \, o a l'e-mail ceei@ceeilleida.cat
ATTACH;FMTTYPE=image/jpeg:https://ceeilleida.com/wp-content/uploads/dijous
 2ccei-1.jpg
CATEGORIES:Lleida
LOCATION:Aula de Formació del Ceeilleida.\, Edifici CEEI-1 Complex de la C
 aparrella\, 97.\, Lleida\, 25191\, Espanya
GEO:41.621742;0.660704
X-APPLE-STRUCTURED-LOCATION;VALUE=URI;X-ADDRESS=Edifici CEEI-1 Complex de l
 a Caparrella\, 97.\, Lleida\, 25191\, Espanya;X-APPLE-RADIUS=100;X-TITLE=A
 ula de Formació del Ceeilleida.:geo:41.621742,0.660704
END:VEVENT
BEGIN:VTIMEZONE
TZID:Europe/Madrid
X-LIC-LOCATION:Europe/Madrid
BEGIN:STANDARD
DTSTART:20161030T020000
TZOFFSETFROM:+0200
TZOFFSETTO:+0100
TZNAME:CET
END:STANDARD
END:VTIMEZONE
END:VCALENDAR