BEGIN:VCALENDAR
VERSION:2.0
PRODID:-//wp-events-plugin.com//7.2.3.1//EN
TZID:Europe/Madrid
X-WR-TIMEZONE:Europe/Madrid
BEGIN:VEVENT
UID:21@ceeilleida.com
DTSTART;TZID=Europe/Madrid:20161020T180000
DTEND;TZID=Europe/Madrid:20161020T200000
DTSTAMP:20160921T121034Z
URL:https://ceeilleida.com/events/dijous-emprenedors-a-el-pont-de-suert-pr
 icing-com-fixar-el-preu-per-obtenir-la-maxima-rendibilitat/
SUMMARY:Dijous Emprenedors a El Pont de Suert. "Pricing: com fixar el preu 
 per obtenir la màxima rendibilitat"
DESCRIPTION:Eduard Cristòbal\, professor de la Universitat de Lleida\, ofe
 rirà una sessió dels Dijous Emprenedors al CEI Alta Ribagorça sota el t
 ítol "Pricing: com fixar el preu per obtenir la màxima rendibilitat". Ti
 ndrà lloc de les 18 a les 20 hores en la Sala de Plens del Consell Comarc
 al de l'Alta Ribagorça (Av. Victoriano Muñoz\, 48). Les inscripcions\, g
 ratuïtes\, es poden fer a través del telèfon 973690353 o pel e-mail: mc
 farre@ccar.ddl.net
ATTACH;FMTTYPE=image/jpeg:https://ceeilleida.com/wp-content/uploads/pdesue
 rtdijous.jpg
CATEGORIES:Alta Ribagorça
LOCATION:Sala de Plens del Consell Comarcal de l'Alta Ribagorça\, Av. Vict
 oriano Muñoz\, 48\, El Pont de Suert\, Espanya
GEO:42.41175;0.7405200000000605
X-APPLE-STRUCTURED-LOCATION;VALUE=URI;X-ADDRESS=Av. Victoriano Muñoz\, 48\
 , El Pont de Suert\, Espanya;X-APPLE-RADIUS=100;X-TITLE=Sala de Plens del 
 Consell Comarcal de l'Alta Ribagorça:geo:42.41175,0.7405200000000605
END:VEVENT
BEGIN:VTIMEZONE
TZID:Europe/Madrid
X-LIC-LOCATION:Europe/Madrid
BEGIN:DAYLIGHT
DTSTART:20160327T030000
TZOFFSETFROM:+0100
TZOFFSETTO:+0200
TZNAME:CEST
END:DAYLIGHT
END:VTIMEZONE
END:VCALENDAR