BEGIN:VCALENDAR
VERSION:2.0
PRODID:-//wp-events-plugin.com//7.2.3.1//EN
TZID:Europe/Madrid
X-WR-TIMEZONE:Europe/Madrid
BEGIN:VEVENT
UID:16@ceeilleida.com
DTSTART;TZID=Europe/Madrid:20161006T180000
DTEND;TZID=Europe/Madrid:20161006T200000
DTSTAMP:20160921T112859Z
URL:https://ceeilleida.com/events/dijous-emprenedors-a-el-pont-de-suert-el
 s-errors-mes-frequents-a-lemprendre-i-com-posar-hi-remei/
SUMMARY:Dijous Emprenedors a El Pont de Suert. "Els errors més freqüents 
 a l'emprendre\, i com posar-hi remei"
DESCRIPTION:Jordi Puigdellívol\, de Sherpa.cat\, oferirà una sessió dels
  Dijous Emprenedors al CEI Alta Ribagorça sota el títol "Els errors més
  freqüents a l'emprendre\, i com posar-hi remei". Tindrà lloc de les 18 
 a les 20 hores en la Sala de Plens del Consell Comarcal de l'Alta Ribagor
 ça (Av. Victoriano Muñoz\, 48). Les inscripcions\, gratuïtes\, es poden
  fer a través del telèfon 973690353 o pel e-mail: mcfarre@ccar.ddl.net
ATTACH;FMTTYPE=image/jpeg:https://ceeilleida.com/wp-content/uploads/pdesue
 rtdijous.jpg
CATEGORIES:Alta Ribagorça
LOCATION:Sala de Plens del Consell Comarcal de l'Alta Ribagorça\, Av. Vict
 oriano Muñoz\, 48\, El Pont de Suert\, Espanya
GEO:42.41175;0.7405200000000605
X-APPLE-STRUCTURED-LOCATION;VALUE=URI;X-ADDRESS=Av. Victoriano Muñoz\, 48\
 , El Pont de Suert\, Espanya;X-APPLE-RADIUS=100;X-TITLE=Sala de Plens del 
 Consell Comarcal de l'Alta Ribagorça:geo:42.41175,0.7405200000000605
END:VEVENT
BEGIN:VTIMEZONE
TZID:Europe/Madrid
X-LIC-LOCATION:Europe/Madrid
BEGIN:DAYLIGHT
DTSTART:20160327T030000
TZOFFSETFROM:+0100
TZOFFSETTO:+0200
TZNAME:CEST
END:DAYLIGHT
END:VTIMEZONE
END:VCALENDAR