BEGIN:VCALENDAR
VERSION:2.0
PRODID:-//wp-events-plugin.com//7.2.3.1//EN
TZID:Europe/Madrid
X-WR-TIMEZONE:Europe/Madrid
BEGIN:VEVENT
UID:103@ceeilleida.com
DTSTART;TZID=Europe/Madrid:20170223T190000
DTEND;TZID=Europe/Madrid:20170223T220000
DTSTAMP:20170215T150441Z
URL:https://ceeilleida.com/events/curs-gratuit-a-bell-lloc-lego-serious-pl
 ay-estrategies-innovadores-per-lemprenedoria/
SUMMARY:Curs gratuït a Bell-lloc: LEGO Serious Play  Estratègies innovado
 res per l’emprenedoria
DESCRIPTION:
ATTACH;FMTTYPE=image/jpeg:https://ceeilleida.com/wp-content/uploads/Taller
 LEGOFebrer2017.jpg
CATEGORIES:Bell-lloc
LOCATION:Incubadora d’Empreses de Bell-lloc\,  C/ Joan Oró\, 3\, Bell-ll
 oc d'Urgell\, Lleida / Catalunya\, 25220\, Espanya
X-APPLE-STRUCTURED-LOCATION;VALUE=URI;X-ADDRESS= C/ Joan Oró\, 3\, Bell-ll
 oc d'Urgell\, Lleida / Catalunya\, 25220\, Espanya;X-APPLE-RADIUS=100;X-TI
 TLE=Incubadora d’Empreses de Bell-lloc:geo:0,0
END:VEVENT
BEGIN:VTIMEZONE
TZID:Europe/Madrid
X-LIC-LOCATION:Europe/Madrid
BEGIN:STANDARD
DTSTART:20161030T020000
TZOFFSETFROM:+0200
TZOFFSETTO:+0100
TZNAME:CET
END:STANDARD
END:VTIMEZONE
END:VCALENDAR