BEGIN:VCALENDAR
VERSION:2.0
PRODID:-//wp-events-plugin.com//7.2.3.1//EN
TZID:Europe/Madrid
X-WR-TIMEZONE:Europe/Madrid
BEGIN:VEVENT
UID:102@ceeilleida.com
DTSTART;TZID=Europe/Madrid:20170131T190000
DTEND;TZID=Europe/Madrid:20170131T213000
DTSTAMP:20170215T145958Z
URL:https://ceeilleida.com/events/curs-gratuit-a-bell-lloc-ecommerce-punki
 -com-realitzar-un-projecte-decommerce-exitos/
SUMMARY:Curs gratuït a Bell-lloc: ”Ecommerce Punki: Com realitzar un pro
 jecte d’Ecommerce exitós”
DESCRIPTION:Aquesta formació té com a principal objectiu explicar l'ecosi
 stema ecommerce del 2017\, un ecosistema molt dur\, exigent i despietat qu
 e provoca que la majoria de botigues online tanquin als primers 6 mesos de
  vida. Volem explicar‐vos d'on venim i cap on anem. Aquesta proposta for
 mativa té una forta base teòrica\, d'anàlisi de projecte i està basada
  en els nostres errors i èxits professionals. Està orientada de forma mo
 lt pràctica i directa\, de fet els alumnes disposaran d'un ordinador amb 
 connexió a internet que els permetrà tenir una experiència en temps rea
 l.
ATTACH;FMTTYPE=image/jpeg:https://ceeilleida.com/wp-content/uploads/CursEc
 ommercePunky2017.jpg
CATEGORIES:Bell-lloc
LOCATION:Incubadora d’Empreses de Bell-lloc\,  C/ Joan Oró\, 3\, Bell-ll
 oc d'Urgell\, Lleida / Catalunya\, 25220\, Espanya
X-APPLE-STRUCTURED-LOCATION;VALUE=URI;X-ADDRESS= C/ Joan Oró\, 3\, Bell-ll
 oc d'Urgell\, Lleida / Catalunya\, 25220\, Espanya;X-APPLE-RADIUS=100;X-TI
 TLE=Incubadora d’Empreses de Bell-lloc:geo:0,0
END:VEVENT
BEGIN:VTIMEZONE
TZID:Europe/Madrid
X-LIC-LOCATION:Europe/Madrid
BEGIN:STANDARD
DTSTART:20161030T020000
TZOFFSETFROM:+0200
TZOFFSETTO:+0100
TZNAME:CET
END:STANDARD
END:VTIMEZONE
END:VCALENDAR