BEGIN:VCALENDAR
VERSION:2.0
PRODID:-//wp-events-plugin.com//7.2.3.1//EN
TZID:Europe/Madrid
X-WR-TIMEZONE:Europe/Madrid
BEGIN:VEVENT
UID:759@ceeilleida.com
DTSTART;TZID=Europe/Madrid:20240228T160000
DTEND;TZID=Europe/Madrid:20240228T200000
DTSTAMP:20240207T111121Z
URL:https://ceeilleida.com/events/curs-al-ceeilleida-xarxes-socials-estrat
 egies-dexit-per-a-pimes-i-emprenedors-2/
SUMMARY:Curs al CEEILleida: “Xarxes socials. Estratègies d’èxit per a
  pimes i emprenedors”
DESCRIPTION:El CEEILleida estrena el seu programa formatiu d’aquest amy 2
 023 amb el curs Xarxes socials. Estratègies d’èxit per a pimes i empr
 enedors\, que anirà a càrrec d’Ariadna Coll\, especialista en comunic
 ació\, marketing i esdeveniments.\n\nEl curs es desenvoluparà en dues se
 ssions\, de quatre hores cadascuna\, els dimecres 21 i 28 de febrer\, entr
 e les 16:00 i les 20:00 hores\, a l’aula de formació del CEEILleida.\n\
 nEl CEEILleida oferirà la càpsula formativa Xarxes socials. Estratègie
 s d’èxit per a pimes i emprenedors\, que tindrà lloc a l’aula de for
 mació del CEEILleida\, en dues sessions\, els dimecres 21 i 28 de febrer
 \, entre les 16:00 i les 20:00 hores.El curs anirà a càrrec d’Ariadna 
 Coll\, especialista en comunicació\, marketing i esdeveniments.\n\nObject
 ius: Descobreix les claus per impulsar la teva pime o projecte emprenedor
  amb el nostre curs intensiu de 8 hores. Impulsa el teu negoci amb estrat
 ègies efectives de xarxes socials!\n\nAquesta formació està dissenyada 
 per a emprenedors i pimes amb l’objectiu de maximitzar la seva presènci
 a en línia.\n\nAprèn a seleccionar les millors plataformes\, crear conti
 ngut atractiu\, gestionar la interacció\, analitzar el rendiment\, i util
 itzar eines d’intel·ligència artificial\, entre d’altres\, per optim
 itzar el teu temps i esprémer al màxim el potencial de les xarxes.\n\nDe
 scobreix com construir i mantenir una presència sòlida en línia\, i lle
 nça la teva marca amb professionalitat en l’entorn digital. Podeu consu
 ltar aquí l’estructura del curs.\n\n\n\nPodeu sol·licitar la inscrip
 ció al curs enviant un correu a ceei@ceeilleida.cat\, adjuntant copia de
 l DNI o NIE.\n\nLliurament de certificat d’assistència al finalitzar el
  taller.
END:VEVENT
BEGIN:VTIMEZONE
TZID:Europe/Madrid
X-LIC-LOCATION:Europe/Madrid
BEGIN:STANDARD
DTSTART:20231029T020000
TZOFFSETFROM:+0200
TZOFFSETTO:+0100
TZNAME:CET
END:STANDARD
END:VTIMEZONE
END:VCALENDAR