BEGIN:VCALENDAR
VERSION:2.0
PRODID:-//wp-events-plugin.com//7.2.3.1//EN
TZID:Europe/Madrid
X-WR-TIMEZONE:Europe/Madrid
BEGIN:VEVENT
UID:752@ceeilleida.com
DTSTART;TZID=Europe/Madrid:20230620T160000
DTEND;TZID=Europe/Madrid:20230620T200000
DTSTAMP:20230605T124509Z
URL:https://ceeilleida.com/events/curs-al-ceeilleida-sobre-com-comunicar-l
 es-teves-idees-de-manera-efectiva/
SUMMARY:Curs al CEEILleida sobre com comunicar les teves idees de manera ef
 ectiva
DESCRIPTION:A càrrec de Gorka Bartolomé\, el dimarts 20 de juny\, a l'aul
 a de formació \nEl CEEILleida oferirà la càpsula formativa Aprèn a c
 omunicar les teves idees de manera efectiva\, que tindrà lloc a l'aula de
  formació del CEEILleida el dimarts 20 de juny\, entre les 16:00 i les 2
 0:00 hores.\n\nEl curs anirà a càrrec de Gorka Bartolomé\, doctor en 
 Psicologia per la UdL. Expert en coaching organitzacional\, executiu i d
 ’equips.\n\nObjectius: Parlar en públic\, i saber comunicar les nostre
 s idees d'una forma clara i atractiva\, s'ha convertit en una necessitat d
 e primer ordre en una societat tan competitiva com la d'avui dia. Parlar e
 n públic s'associa comunament amb la capacitat de posar-se davant d'un p
 úblic nombrós i ser capaç d'elaborar un discurs coherent sense morir en
  l'intent.\n\nPerò és molt més que això. Des de la presentació d'un p
 rojecte o una idea en una reunió\, fins a com presentar-nos en una entrev
 ista de treball\, són situacions que requereixen d'un domini mínim de l'
 art de l'oratòria.\n\nAquesta formació ofereix tant elements de nivell b
 àsic i mitjà que ajudarà als participants a eliminar les seves pors a l
 'escena i a més a com elaborar discursos i presentacions amb ganxo.\n\n\n
 \nLliurament de certificat d'assistència al finalitzar el taller.\n\nL'ob
 tenció del certificat implica el seguiment amb aprofitament\, i l'assist
 ència al 100% de l'activitat formativa. Els certificats d'assistència s'
 enviaran al mateix correu electrònic des d'on s'ha efectuat la inscripci
 ó.\n\n\n\nPodeu sol·licitar la inscripció al curs enviant un correu a 
 ceei@ceeilleida.cat\, adjuntant copia del DNI o NIE.
LOCATION:Aula de Formació del CEEILleida\, Partida Caparrella\, 97\, Lleid
 a\, Lleida\, 25192\, Catalunya\, Espanya
X-APPLE-STRUCTURED-LOCATION;VALUE=URI;X-ADDRESS=Partida Caparrella\, 97\, L
 leida\, Lleida\, 25192\, Catalunya\, Espanya;X-APPLE-RADIUS=100;X-TITLE=Au
 la de Formació del CEEILleida:geo:0,0
END:VEVENT
BEGIN:VTIMEZONE
TZID:Europe/Madrid
X-LIC-LOCATION:Europe/Madrid
BEGIN:DAYLIGHT
DTSTART:20230326T030000
TZOFFSETFROM:+0100
TZOFFSETTO:+0200
TZNAME:CEST
END:DAYLIGHT
END:VTIMEZONE
END:VCALENDAR