BEGIN:VCALENDAR
VERSION:2.0
PRODID:-//wp-events-plugin.com//7.2.3.1//EN
TZID:Europe/Madrid
X-WR-TIMEZONE:Europe/Madrid
BEGIN:VEVENT
UID:772@ceeilleida.com
DTSTART;TZID=Europe/Madrid:20241022T160000
DTEND;TZID=Europe/Madrid:20241022T200000
DTSTAMP:20240704T103813Z
URL:https://ceeilleida.com/events/curs-al-ceeilleida-siguis-curios-i-apren
 -a-fer-bones-preguntes-i-prompts-a-una-persona-o-chat-gpt-per-a-vendre-mil
 lor/
SUMMARY:Curs al CEEILleida: Siguis curiós i aprèn a fer bones preguntes i
  prompts a una persona o chat GPT per a vendre millor
DESCRIPTION:A càrrec de Sílvia Ibáñez Jornet.
END:VEVENT
BEGIN:VTIMEZONE
TZID:Europe/Madrid
X-LIC-LOCATION:Europe/Madrid
BEGIN:DAYLIGHT
DTSTART:20240331T030000
TZOFFSETFROM:+0100
TZOFFSETTO:+0200
TZNAME:CEST
END:DAYLIGHT
END:VTIMEZONE
END:VCALENDAR