BEGIN:VCALENDAR
VERSION:2.0
PRODID:-//wp-events-plugin.com//7.2.3.1//EN
TZID:Europe/Madrid
X-WR-TIMEZONE:Europe/Madrid
BEGIN:VEVENT
UID:747@ceeilleida.com
DTSTART;TZID=Europe/Madrid:20231018T163000
DTEND;TZID=Europe/Madrid:20231018T193000
DTSTAMP:20230920T111042Z
URL:https://ceeilleida.com/events/curs-al-ceeilleida-lideratge-adaptacio-a
 l-canvi/
SUMMARY:Curs al CEEILleida: Lideratge: adaptació al canvi
DESCRIPTION:A càrrec de Xavier Roca\, llicenciat en Administració d’Emp
 resa i MBA per ESADE. Postgrau de Lideratge a ESADE i Master in Trade Fair
  Management per la Universitat de Colònia.\n\nEstem vivint una època de 
 canvis... o potser millor un canvi d'època. I en un entorn tant canviant\
 , desenvolupar un bon lideratge resulta totalment imprescindible. En el cu
 rs descobrirem com està canviant el nostre entorn i com afecta al nostre 
 dia a dia. Entendrem què és un bon lideratge i treballarem les claus per
  aconseguir liderar eficientment els equips de treball per tal d'aconsegui
 r els objectius plantejats. També descobrirem com desenvolupar processos 
 de canvi satisfactoris en l'entorn organitzatiu.
LOCATION:Aula de Formació del CEEILleida\, Partida Caparrella\, 97\, Lleid
 a\, Lleida\, 25192\, Catalunya\, Espanya
X-APPLE-STRUCTURED-LOCATION;VALUE=URI;X-ADDRESS=Partida Caparrella\, 97\, L
 leida\, Lleida\, 25192\, Catalunya\, Espanya;X-APPLE-RADIUS=100;X-TITLE=Au
 la de Formació del CEEILleida:geo:0,0
END:VEVENT
BEGIN:VTIMEZONE
TZID:Europe/Madrid
X-LIC-LOCATION:Europe/Madrid
BEGIN:DAYLIGHT
DTSTART:20230326T030000
TZOFFSETFROM:+0100
TZOFFSETTO:+0200
TZNAME:CEST
END:DAYLIGHT
END:VTIMEZONE
END:VCALENDAR