BEGIN:VCALENDAR
VERSION:2.0
PRODID:-//wp-events-plugin.com//7.2.3.1//EN
TZID:Europe/Madrid
X-WR-TIMEZONE:Europe/Madrid
BEGIN:VEVENT
UID:737@ceeilleida.com
DTSTART;TZID=Europe/Madrid:20230223T160000
DTEND;TZID=Europe/Madrid:20230223T200000
DTSTAMP:20230209T121449Z
URL:https://ceeilleida.com/events/curs-al-ceeilleida-gestiona-el-temps-amb
 -eficacia/
SUMMARY:Curs al CEEILleida: “Gestiona el temps amb eficàcia”
DESCRIPTION:El CEEILleida oferirà la càpsula formativa Gestiona el temps
  amb eficàcia. Augmenta la teva productivitat i aconsegueix millors resul
 tats amb menys temps\, que tindrà lloc a l’aula de formació del CEEILl
 eida el dijous 23 de febrer\, entre les 16:00 i les 20:00 hores.\n\nEl cu
 rs anirà a càrrec de Mònica Moles\, economista\, coach i copywriter. 
 La formació té com a objectiu conscienciar sobre la gestió i l’ús q
 ue es fa del temps per aprendre a prioritzar i a gestionar-lo amb eficàci
 a. Us emportareu eines per guanyar productivitat\, eficiència i optimitza
 r el temps per assolir abans els teus projectes.\n\n\n\nLliurament de cert
 ificat d’assistència al finalitzar el taller.&nbsp\;\n\nL’obtenció d
 el certificat implica el seguiment amb aprofitament\, i l’assistència a
 l 100% de l’activitat formativa. Els certificats d’assistència s’en
 viaran al mateix correu electrònic des d’on s’ha efectuat la inscripc
 ió.\n\n\n\nPodeu sol·licitar la inscripció enviant un correu a ceei@ce
 eilleida.cat\, adjuntant copia del DNI o NIE.
LOCATION:Aula de Formació del CEEILleida\, Partida Caparrella\, 97\, Lleid
 a\, Lleida\, 25192\, Catalunya\, Espanya
X-APPLE-STRUCTURED-LOCATION;VALUE=URI;X-ADDRESS=Partida Caparrella\, 97\, L
 leida\, Lleida\, 25192\, Catalunya\, Espanya;X-APPLE-RADIUS=100;X-TITLE=Au
 la de Formació del CEEILleida:geo:0,0
END:VEVENT
BEGIN:VTIMEZONE
TZID:Europe/Madrid
X-LIC-LOCATION:Europe/Madrid
BEGIN:STANDARD
DTSTART:20221030T020000
TZOFFSETFROM:+0200
TZOFFSETTO:+0100
TZNAME:CET
END:STANDARD
END:VTIMEZONE
END:VCALENDAR