BEGIN:VCALENDAR
VERSION:2.0
PRODID:-//wp-events-plugin.com//7.2.3.1//EN
TZID:Europe/Madrid
X-WR-TIMEZONE:Europe/Madrid
BEGIN:VEVENT
UID:745@ceeilleida.com
DTSTART;TZID=Europe/Madrid:20230718T163000
DTEND;TZID=Europe/Madrid:20230718T193000
DTSTAMP:20230630T093202Z
URL:https://ceeilleida.com/events/curs-al-ceeilleida-estrategia-de-marca-p
 er-instagram/
SUMMARY:Curs al CEEILleida: Estratègia de marca per a instagram
DESCRIPTION:A càrrec d'Ariadna Coll Torres. Comunicació\, marketing i esd
 eveniments.\n\nImpulsa la imatge i les vendes de la teva marca a través d
 'una estratègia optimitzada a les xarxes socials. Estar present en canals
  digitals solament té sentit si tens un pla d'acció que t'ajudi a aconse
 guir resultats reals en funció dels teus objectius\, i pujar imatges est
 ètiques no és la solució.\n\nEn aquesta formació t'ensenyaré com fer 
 una bona estratègia\, tractarem els següents temes:\n\n 	Com em pot ajud
 ar Instagram\n 	Com funciona l’algoritme?\n\n 	Aspectes que ens poden pe
 nalitzar\n\n\n 	Definició dels objectius que volem aconseguir tenint en c
 ompte l’embut de conversió digital\n 	Disseny de l’estratègia de con
 tinguts\n\n 	Quins temes he de tractar\n 	Pilars de continguts per a la me
 va marca\n 	Formats que funcionen per aconseguir interaccions\n 	Com crear
  un calendari de continguts\n\n\n\n\n 	Bàsics d’Instagram per atreure s
 eguidors i crear una comunitat\n\n 	La biografia perfecta\n 	Dies i hores 
 de publicació\n 	 Com escriure textos que persuadeixin\n 	Com utilitzar 
 els hashtags per arribar a més usuaris\n\n\n\n\n 	Maximitza els teus resu
 ltats\n\n 	Estratègies de venda per a Instagram\n 	Anuncis per atreure se
 guidors/clients\n 	Mesurament de resultats. Aprèn a extreure conclusions 
 amb les teves mètriques\n\n\n
LOCATION:Aula de Formació del CEEILleida\, Partida Caparrella\, 97\, Lleid
 a\, Lleida\, 25192\, Catalunya\, Espanya
X-APPLE-STRUCTURED-LOCATION;VALUE=URI;X-ADDRESS=Partida Caparrella\, 97\, L
 leida\, Lleida\, 25192\, Catalunya\, Espanya;X-APPLE-RADIUS=100;X-TITLE=Au
 la de Formació del CEEILleida:geo:0,0
END:VEVENT
BEGIN:VTIMEZONE
TZID:Europe/Madrid
X-LIC-LOCATION:Europe/Madrid
BEGIN:DAYLIGHT
DTSTART:20230326T030000
TZOFFSETFROM:+0100
TZOFFSETTO:+0200
TZNAME:CEST
END:DAYLIGHT
END:VTIMEZONE
END:VCALENDAR