BEGIN:VCALENDAR
VERSION:2.0
PRODID:-//wp-events-plugin.com//7.2.3.1//EN
TZID:Europe/Madrid
X-WR-TIMEZONE:Europe/Madrid
BEGIN:VEVENT
UID:36@ceeilleida.com
DTSTART;TZID=Europe/Madrid:20161117T143000
DTEND;TZID=Europe/Madrid:20161117T163000
DTSTAMP:20160922T111343Z
URL:https://ceeilleida.com/events/com-millorar-la-rendibilitat-del-meu-com
 erc-al-cei-cervera/
SUMMARY:Com millorar la rendibilitat del meu comerç\, al CEI Cervera
DESCRIPTION:A càrrec de Blanca Siurana\, tècnica de la Cambra de Comerç 
 de Lleida\n\nContacte: Esther cei@cerverapaeria.cat
ATTACH;FMTTYPE=image/jpeg:https://ceeilleida.com/wp-content/uploads/cerver
 a1711.jpg
CATEGORIES:Cervera
LOCATION:CEI Cervera\, Av. Segrià\, s/n nau B\, Cervera\, Espanya
GEO:41.671465;1.2722539999999753
X-APPLE-STRUCTURED-LOCATION;VALUE=URI;X-ADDRESS=Av. Segrià\, s/n nau B\, C
 ervera\, Espanya;X-APPLE-RADIUS=100;X-TITLE=CEI Cervera:geo:41.671465,1.27
 22539999999753
END:VEVENT
BEGIN:VTIMEZONE
TZID:Europe/Madrid
X-LIC-LOCATION:Europe/Madrid
BEGIN:STANDARD
DTSTART:20161030T020000
TZOFFSETFROM:+0200
TZOFFSETTO:+0100
TZNAME:CET
END:STANDARD
END:VTIMEZONE
END:VCALENDAR