BEGIN:VCALENDAR
VERSION:2.0
PRODID:-//wp-events-plugin.com//7.2.3.1//EN
TZID:Europe/Madrid
X-WR-TIMEZONE:Europe/Madrid
BEGIN:VEVENT
UID:377@ceeilleida.com
DTSTART;TZID=Europe/Madrid:20191016T100000
DTEND;TZID=Europe/Madrid:20191016T140000
DTSTAMP:20190109T122039Z
URL:https://ceeilleida.com/events/cei-val-daran-capsula-formativa-estas-pe
 nsant-en-crear-la-teva-empresa-i-no-saps-si-la-teva-idea-tindra-acceptacio
 -apren-com-esbrinar-si-tindras-clients/
SUMMARY:CEI Val d'Aran. Càpsula formativa: Estàs pensant en crear la teva
  empresa i no saps si la teva idea tindrà acceptació? Aprèn com esbrina
 r si tindràs clients!
DESCRIPTION:\n\n\nJuanjo Pérez\, Consultor en planificació estratègica. 
 Llicenciat ciències polítiques i postgraduat relacions internacionals\, 
 prevenció R.L. I Desenv.Econòmic.\n\n\n
CATEGORIES:Val d'Aran
LOCATION:CEI Val d'Aran\, Plaça Naua\,1\, Casau\, 25538\, Espanya
GEO:42.7058423;0.7856735999999955
X-APPLE-STRUCTURED-LOCATION;VALUE=URI;X-ADDRESS=Plaça Naua\,1\, Casau\, 25
 538\, Espanya;X-APPLE-RADIUS=100;X-TITLE=CEI Val d'Aran:geo:42.7058423,0.7
 856735999999955
END:VEVENT
BEGIN:VTIMEZONE
TZID:Europe/Madrid
X-LIC-LOCATION:Europe/Madrid
BEGIN:DAYLIGHT
DTSTART:20190331T030000
TZOFFSETFROM:+0100
TZOFFSETTO:+0200
TZNAME:CEST
END:DAYLIGHT
END:VTIMEZONE
END:VCALENDAR