BEGIN:VCALENDAR
VERSION:2.0
PRODID:-//wp-events-plugin.com//7.2.3.1//EN
TZID:Europe/Madrid
X-WR-TIMEZONE:Europe/Madrid
BEGIN:VEVENT
UID:56@ceeilleida.com
DTSTART;TZID=Europe/Madrid:20170223T160000
DTEND;TZID=Europe/Madrid:20170223T200000
DTSTAMP:20170215T142838Z
URL:https://ceeilleida.com/events/capsula-tecniques-de-comunicacio-parla-e
 n-public-al-ceeilleida/
SUMMARY:Càpsula al Ceeilleida: Tècniques de comunicació: parla en públi
 c
DESCRIPTION:A càrrec de David Jorba\, formador i president de l’Associac
 ió de Formació i Coaching 12 pilars. Objectiu: aprendre a controlar l’
 estrès a l’hora de parlar en públic\, saber com estructurar una presen
 tació efectiva i aprendre a “llegir” l’audiència i adequar el miss
 atge.
ATTACH;FMTTYPE=image/jpeg:https://ceeilleida.com/wp-content/uploads/ceei23
 2-1.jpg
CATEGORIES:Lleida
LOCATION:Aula de Formació del Ceeilleida.\, Edifici CEEI-1 Complex de la C
 aparrella\, 97.\, Lleida\, 25191\, Espanya
GEO:41.621742;0.660704
X-APPLE-STRUCTURED-LOCATION;VALUE=URI;X-ADDRESS=Edifici CEEI-1 Complex de l
 a Caparrella\, 97.\, Lleida\, 25191\, Espanya;X-APPLE-RADIUS=100;X-TITLE=A
 ula de Formació del Ceeilleida.:geo:41.621742,0.660704
END:VEVENT
BEGIN:VTIMEZONE
TZID:Europe/Madrid
X-LIC-LOCATION:Europe/Madrid
BEGIN:STANDARD
DTSTART:20161030T020000
TZOFFSETFROM:+0200
TZOFFSETTO:+0100
TZNAME:CET
END:STANDARD
END:VTIMEZONE
END:VCALENDAR