BEGIN:VCALENDAR
VERSION:2.0
PRODID:-//wp-events-plugin.com//7.2.3.1//EN
TZID:Europe/Madrid
X-WR-TIMEZONE:Europe/Madrid
BEGIN:VEVENT
UID:628@ceeilleida.com
DTSTART;TZID=Europe/Madrid:20210706T183000
DTEND;TZID=Europe/Madrid:20210706T203000
DTSTAMP:20210304T122545Z
URL:https://ceeilleida.com/events/capsula-online-al-ceeilleida-instagram-u
 na-xarxa-per-a-vendre/
SUMMARY:Càpsula online al CEEILleida: Instagram\, una xarxa per a vendre?
DESCRIPTION:Ester Barqué Setó. Instagram és una xarxa que esta de moda\,
  però no es coneix que es una aplicació i que s’ha de gestionar conjun
 tament amb Facebook. Tens un perfil professional? Vols tenir-lo? Vols vend
 re a Instagram i a Facebook?
CATEGORIES:Lleida
END:VEVENT
BEGIN:VTIMEZONE
TZID:Europe/Madrid
X-LIC-LOCATION:Europe/Madrid
BEGIN:DAYLIGHT
DTSTART:20210328T030000
TZOFFSETFROM:+0100
TZOFFSETTO:+0200
TZNAME:CEST
END:DAYLIGHT
END:VTIMEZONE
END:VCALENDAR