BEGIN:VCALENDAR
VERSION:2.0
PRODID:-//wp-events-plugin.com//7.2.3.1//EN
TZID:Europe/Madrid
X-WR-TIMEZONE:Europe/Madrid
BEGIN:VEVENT
UID:197@ceeilleida.com
DTSTART;TZID=Europe/Madrid:20170523T100000
DTEND;TZID=Europe/Madrid:20170523T140000
DTSTAMP:20170502T123658Z
URL:https://ceeilleida.com/events/capsula-marqueting-dexit-pressupost-limi
 tat-cei-val-daran/
SUMMARY:Càpsula Marqueting d’èxit amb un pressupost limitat al CEI Val 
 d'Aran
DESCRIPTION:A càrrec de Jordi Bernat Bordes.
ATTACH;FMTTYPE=image/jpeg:https://ceeilleida.com/wp-content/uploads/235val
 daran.jpg
CATEGORIES:Val d'Aran
LOCATION:CEI Val d'Aran\, Plaça Naua\,1\, Casau\, 25538\, Espanya
GEO:42.7058423;0.7856735999999955
X-APPLE-STRUCTURED-LOCATION;VALUE=URI;X-ADDRESS=Plaça Naua\,1\, Casau\, 25
 538\, Espanya;X-APPLE-RADIUS=100;X-TITLE=CEI Val d'Aran:geo:42.7058423,0.7
 856735999999955
END:VEVENT
BEGIN:VTIMEZONE
TZID:Europe/Madrid
X-LIC-LOCATION:Europe/Madrid
BEGIN:DAYLIGHT
DTSTART:20170326T030000
TZOFFSETFROM:+0100
TZOFFSETTO:+0200
TZNAME:CEST
END:DAYLIGHT
END:VTIMEZONE
END:VCALENDAR