BEGIN:VCALENDAR
VERSION:2.0
PRODID:-//wp-events-plugin.com//7.2.3.1//EN
TZID:Europe/Madrid
X-WR-TIMEZONE:Europe/Madrid
BEGIN:VEVENT
UID:55@ceeilleida.com
DTSTART;TZID=Europe/Madrid:20170126T160000
DTEND;TZID=Europe/Madrid:20170126T180000
DTSTAMP:20170215T142743Z
URL:https://ceeilleida.com/events/capsula-formativa-whatsapp-com-a-canal-d
 e-comunicacio-amb-els-teus-clients/
SUMMARY:Càpsula al Ceeilleida: "WhatsApp com a canal de comunicació amb e
 ls teus clients"
DESCRIPTION:A càrrec de Gerald Manau. Analista i programador.\n\nObjectiu
 : Explorar els canals de comunicació instantània disponibles i com aprof
 itar-los per atendre millor als nostres clients i fer créixer el nostre n
 egoci sense que suposi un esforç extraordinari. Veurem com l’adopció d
 ’aquests canals ens farà destacar davant dels nostres competidors.
ATTACH;FMTTYPE=image/jpeg:https://ceeilleida.com/wp-content/uploads/ceei26
 1-1.jpg
CATEGORIES:Lleida
LOCATION:Aula de Formació del Ceeilleida.\, Edifici CEEI-1 Complex de la C
 aparrella\, 97.\, Lleida\, 25191\, Espanya
GEO:41.621742;0.660704
X-APPLE-STRUCTURED-LOCATION;VALUE=URI;X-ADDRESS=Edifici CEEI-1 Complex de l
 a Caparrella\, 97.\, Lleida\, 25191\, Espanya;X-APPLE-RADIUS=100;X-TITLE=A
 ula de Formació del Ceeilleida.:geo:41.621742,0.660704
END:VEVENT
BEGIN:VTIMEZONE
TZID:Europe/Madrid
X-LIC-LOCATION:Europe/Madrid
BEGIN:STANDARD
DTSTART:20161030T020000
TZOFFSETFROM:+0200
TZOFFSETTO:+0100
TZNAME:CET
END:STANDARD
END:VTIMEZONE
END:VCALENDAR