BEGIN:VCALENDAR
VERSION:2.0
PRODID:-//wp-events-plugin.com//7.2.3.1//EN
TZID:Europe/Madrid
X-WR-TIMEZONE:Europe/Madrid
BEGIN:VEVENT
UID:196@ceeilleida.com
DTSTART;TZID=Europe/Madrid:20170523T160000
DTEND;TZID=Europe/Madrid:20170523T200000
DTSTAMP:20170502T091550Z
URL:https://ceeilleida.com/events/capsula-formativa-pont-suert-tramits-fis
 cals-negoci/
SUMMARY:Càpsula formativa a El Pont de Suert: Tràmits fiscals del teu neg
 oci
DESCRIPTION:A càrrec de Joan Vianya\, Advocat-Assessor Fiscal.
ATTACH;FMTTYPE=image/jpeg:https://ceeilleida.com/wp-content/uploads/pontde
 suert235.jpg
CATEGORIES:Alta Ribagorça
LOCATION:Sala de Plens del Consell Comarcal de l'Alta Ribagorça\, Av. Vict
 oriano Muñoz\, 48\, El Pont de Suert\, Espanya
GEO:42.41175;0.7405200000000605
X-APPLE-STRUCTURED-LOCATION;VALUE=URI;X-ADDRESS=Av. Victoriano Muñoz\, 48\
 , El Pont de Suert\, Espanya;X-APPLE-RADIUS=100;X-TITLE=Sala de Plens del 
 Consell Comarcal de l'Alta Ribagorça:geo:42.41175,0.7405200000000605
END:VEVENT
BEGIN:VTIMEZONE
TZID:Europe/Madrid
X-LIC-LOCATION:Europe/Madrid
BEGIN:DAYLIGHT
DTSTART:20170326T030000
TZOFFSETFROM:+0100
TZOFFSETTO:+0200
TZNAME:CEST
END:DAYLIGHT
END:VTIMEZONE
END:VCALENDAR