BEGIN:VCALENDAR
VERSION:2.0
PRODID:-//wp-events-plugin.com//7.2.3.1//EN
TZID:Europe/Madrid
X-WR-TIMEZONE:Europe/Madrid
BEGIN:VEVENT
UID:58@ceeilleida.com
DTSTART;TZID=Europe/Madrid:20170406T160000
DTEND;TZID=Europe/Madrid:20170406T200000
DTSTAMP:20170327T125744Z
URL:https://ceeilleida.com/events/capsula-formativa-la-clau-duna-estrategi
 a-dexit-un-bon-estudi-de-mercat/
SUMMARY:Càpsula al Ceeilleida: La clau d’una estratègia d’èxit: un b
 on estudi de mercat
DESCRIPTION:A càrrec de Luis Francisco Casado Román. Soci Director de Ma
 rketing Gabinet.\n\nObjectius: Explicar els fonaments de la investigació 
 de mercats en màrqueting. Desenvolupar eines i metodologies per conèixer
  la competència i fer anàlisis comparatives. Posar en pràctica sistemes
  per detectar oportunitats de mercat. Descobrir formes d’investigar el m
 ercat i conèixer les fonts a les quals podem acudir per obtenir aquesta i
 nformació. Establir criteris de control i seguiment de clients.
ATTACH;FMTTYPE=image/jpeg:https://ceeilleida.com/wp-content/uploads/ceei64
 -2.jpg
CATEGORIES:Lleida
LOCATION:Aula de Formació del Ceeilleida.\, Edifici CEEI-1 Complex de la C
 aparrella\, 97.\, Lleida\, 25191\, Espanya
GEO:41.621742;0.660704
X-APPLE-STRUCTURED-LOCATION;VALUE=URI;X-ADDRESS=Edifici CEEI-1 Complex de l
 a Caparrella\, 97.\, Lleida\, 25191\, Espanya;X-APPLE-RADIUS=100;X-TITLE=A
 ula de Formació del Ceeilleida.:geo:41.621742,0.660704
END:VEVENT
BEGIN:VTIMEZONE
TZID:Europe/Madrid
X-LIC-LOCATION:Europe/Madrid
BEGIN:DAYLIGHT
DTSTART:20170326T030000
TZOFFSETFROM:+0100
TZOFFSETTO:+0200
TZNAME:CEST
END:DAYLIGHT
END:VTIMEZONE
END:VCALENDAR