BEGIN:VCALENDAR
VERSION:2.0
PRODID:-//wp-events-plugin.com//7.2.3.1//EN
TZID:Europe/Madrid
X-WR-TIMEZONE:Europe/Madrid
BEGIN:VEVENT
UID:171@ceeilleida.com
DTSTART;TZID=Europe/Madrid:20170316T150000
DTEND;TZID=Europe/Madrid:20170316T170000
DTSTAMP:20170303T113115Z
URL:https://ceeilleida.com/events/capsula-formativa-cei-borges-curs-pricin
 g-fixar-preu-obtenir-maxima-rendibilitat/
SUMMARY:CÀPSULA FORMATIVA AL CEI BORGES: "Curs de Pricing: com fixar el pr
 eu per obtenir la màxima rendibilitat"
DESCRIPTION:A càrrec d'Eduard Cristóbal\, professor d'Administració d'Em
 preses i Gestió Econòmica.
ATTACH;FMTTYPE=image/jpeg:https://ceeilleida.com/wp-content/uploads/borges
 163.jpg
CATEGORIES:Borges Blanques
LOCATION:Cei Borges Blanques\, Av Francesc Macià s/n \, Borges Blanques\, 
 Lleida\, 25400\, Espanya
GEO:41.5146135;0.8757410000000618
X-APPLE-STRUCTURED-LOCATION;VALUE=URI;X-ADDRESS=Av Francesc Macià s/n \, B
 orges Blanques\, Lleida\, 25400\, Espanya;X-APPLE-RADIUS=100;X-TITLE=Cei B
 orges Blanques:geo:41.5146135,0.8757410000000618
END:VEVENT
BEGIN:VTIMEZONE
TZID:Europe/Madrid
X-LIC-LOCATION:Europe/Madrid
BEGIN:STANDARD
DTSTART:20161030T020000
TZOFFSETFROM:+0200
TZOFFSETTO:+0100
TZNAME:CET
END:STANDARD
END:VTIMEZONE
END:VCALENDAR