BEGIN:VCALENDAR
VERSION:2.0
PRODID:-//wp-events-plugin.com//7.2.3.1//EN
TZID:Europe/Madrid
X-WR-TIMEZONE:Europe/Madrid
BEGIN:VEVENT
UID:685@ceeilleida.com
DTSTART;TZID=Europe/Madrid:20211019T110000
DTEND;TZID=Europe/Madrid:20211019T130000
DTSTAMP:20210817T122602Z
URL:https://ceeilleida.com/events/capsula-formativa-al-cei-val-daran-triun
 fa-amb-linkedincurs-expres-per-a-treuren-el-seu-maxim-rendiment/
SUMMARY:Càpsula formativa al CEI Val d'Aran: Triomfa amb Linkedin: curs ex
 pres per a treure’n el seu màxim  rendiment
DESCRIPTION:A càrrec de Jordi Urgell
CATEGORIES:Val d'Aran
END:VEVENT
BEGIN:VTIMEZONE
TZID:Europe/Madrid
X-LIC-LOCATION:Europe/Madrid
BEGIN:DAYLIGHT
DTSTART:20210328T030000
TZOFFSETFROM:+0100
TZOFFSETTO:+0200
TZNAME:CEST
END:DAYLIGHT
END:VTIMEZONE
END:VCALENDAR