BEGIN:VCALENDAR
VERSION:2.0
PRODID:-//wp-events-plugin.com//7.2.3.1//EN
TZID:Europe/Madrid
X-WR-TIMEZONE:Europe/Madrid
BEGIN:VEVENT
UID:88@ceeilleida.com
DTSTART;TZID=Europe/Madrid:20170222T160000
DTEND;TZID=Europe/Madrid:20170222T200000
DTSTAMP:20170215T131243Z
URL:https://ceeilleida.com/events/capsula-formativa-al-cei-pallars-jussa-l
 a-revolucio-digital-i-els-nous-models-de-negoci/
SUMMARY:Càpsula formativa al CEI Pallars Jussà: La revolució digital i e
 ls nous models de negoci
DESCRIPTION:A càrrec de Jordi Puigdellívol\, Sherpa empresarial.
ATTACH;FMTTYPE=image/jpeg:https://ceeilleida.com/wp-content/uploads/tremp2
 202.jpg
CATEGORIES:Pallars Jussà
LOCATION:Centre de visitants. Epicentre.\, Passeig del Vall\, 13.\, Tremp\,
  Espanya
GEO:42.1659639;0.8953667000000678
X-APPLE-STRUCTURED-LOCATION;VALUE=URI;X-ADDRESS=Passeig del Vall\, 13.\, Tr
 emp\, Espanya;X-APPLE-RADIUS=100;X-TITLE=Centre de visitants. Epicentre.:g
 eo:42.1659639,0.8953667000000678
END:VEVENT
BEGIN:VTIMEZONE
TZID:Europe/Madrid
X-LIC-LOCATION:Europe/Madrid
BEGIN:STANDARD
DTSTART:20161030T020000
TZOFFSETFROM:+0200
TZOFFSETTO:+0100
TZNAME:CET
END:STANDARD
END:VTIMEZONE
END:VCALENDAR