BEGIN:VCALENDAR
VERSION:2.0
PRODID:-//wp-events-plugin.com//7.2.3.1//EN
TZID:Europe/Madrid
X-WR-TIMEZONE:Europe/Madrid
BEGIN:VEVENT
UID:650@ceeilleida.com
DTSTART;TZID=Europe/Madrid:20211111T190000
DTEND;TZID=Europe/Madrid:20211111T210000
DTSTAMP:20210316T094558Z
URL:https://ceeilleida.com/events/capsula-formativa-al-cei-borges-instagra
 m-una-xarxa-per-vendre/
SUMMARY:Càpsula formativa al CEI Borges: Instagram\, una xarxa per vendre?
DESCRIPTION:Professora: Ester Barqué\n\nMail: silviamansilla@lesborgesblan
 ques.cat\n\n&nbsp\;
CATEGORIES:Borges Blanques
END:VEVENT
BEGIN:VTIMEZONE
TZID:Europe/Madrid
X-LIC-LOCATION:Europe/Madrid
BEGIN:STANDARD
DTSTART:20211031T020000
TZOFFSETFROM:+0200
TZOFFSETTO:+0100
TZNAME:CET
END:STANDARD
END:VTIMEZONE
END:VCALENDAR