BEGIN:VCALENDAR
VERSION:2.0
PRODID:-//wp-events-plugin.com//7.2.3.1//EN
TZID:Europe/Madrid
X-WR-TIMEZONE:Europe/Madrid
BEGIN:VEVENT
UID:20@ceeilleida.com
DTSTART;TZID=Europe/Madrid:20161020T150000
DTEND;TZID=Europe/Madrid:20161020T190000
DTSTAMP:20160921T120912Z
URL:https://ceeilleida.com/events/capsula-formativa-al-cei-borges-com-nego
 ciar-amb-la-banca-10-errors-que-no-hem-de-cometre/
SUMMARY:Càpsula formativa al CEI Borges: "Com negociar amb la banca: 10 er
 rors que no hem de cometre"
DESCRIPTION:A càrrec de Carles Morata\, expert en gestió financera i patr
 imonial.\n\nContacte: Sílvia Mansilla 973 142 658 i dinamitzacio@garrigu
 es.cat
ATTACH;FMTTYPE=image/jpeg:https://ceeilleida.com/wp-content/uploads/borges
 2010.jpg
CATEGORIES:Borges Blanques
LOCATION:Cei Borges Blanques\, Av Francesc Macià s/n \, Borges Blanques\, 
 Lleida\, 25400\, Espanya
GEO:41.5146135;0.8757410000000618
X-APPLE-STRUCTURED-LOCATION;VALUE=URI;X-ADDRESS=Av Francesc Macià s/n \, B
 orges Blanques\, Lleida\, 25400\, Espanya;X-APPLE-RADIUS=100;X-TITLE=Cei B
 orges Blanques:geo:41.5146135,0.8757410000000618
END:VEVENT
BEGIN:VTIMEZONE
TZID:Europe/Madrid
X-LIC-LOCATION:Europe/Madrid
BEGIN:DAYLIGHT
DTSTART:20160327T030000
TZOFFSETFROM:+0100
TZOFFSETTO:+0200
TZNAME:CEST
END:DAYLIGHT
END:VTIMEZONE
END:VCALENDAR