BEGIN:VCALENDAR
VERSION:2.0
PRODID:-//wp-events-plugin.com//7.2.3.1//EN
TZID:Europe/Madrid
X-WR-TIMEZONE:Europe/Madrid
BEGIN:VEVENT
UID:631@ceeilleida.com
DTSTART;TZID=Europe/Madrid:20211019T100000
DTEND;TZID=Europe/Madrid:20211019T140000
DTSTAMP:20210304T114655Z
URL:https://ceeilleida.com/events/capsula-formativa-al-cei-alta-ribagorca-
 com-potenciar-la-teva-marca-personal-corporativa-a-les-xarxes-socials-mitj
 ancant-contingut-de-valor/
SUMMARY:Càpsula formativa al CEI Alta Ribagorça: Com potenciar la teva ma
 rca personal/corporativa a les xarxes socials mitjançant contingut de val
 or
DESCRIPTION:A càrrec de Montse Díaz
CATEGORIES:Alta Ribagorça
END:VEVENT
BEGIN:VTIMEZONE
TZID:Europe/Madrid
X-LIC-LOCATION:Europe/Madrid
BEGIN:DAYLIGHT
DTSTART:20210328T030000
TZOFFSETFROM:+0100
TZOFFSETTO:+0200
TZNAME:CEST
END:DAYLIGHT
END:VTIMEZONE
END:VCALENDAR